BEGIN:VCALENDAR
VERSION:2.0
PRODID:-//Sunshine STEM Academy - ECPv6.15.20//NONSGML v1.0//EN
CALSCALE:GREGORIAN
METHOD:PUBLISH
X-WR-CALNAME:Sunshine STEM Academy
X-ORIGINAL-URL:https://sunshinestem.com
X-WR-CALDESC:Events for Sunshine STEM Academy
REFRESH-INTERVAL;VALUE=DURATION:PT1H
X-Robots-Tag:noindex
X-PUBLISHED-TTL:PT1H
BEGIN:VTIMEZONE
TZID:UTC
BEGIN:STANDARD
TZOFFSETFROM:+0000
TZOFFSETTO:+0000
TZNAME:UTC
DTSTART:20160101T000000
END:STANDARD
END:VTIMEZONE
BEGIN:VTIMEZONE
TZID:Asia/Karachi
BEGIN:STANDARD
TZOFFSETFROM:+0500
TZOFFSETTO:+0500
TZNAME:PKT
DTSTART:20160101T000000
END:STANDARD
END:VTIMEZONE
BEGIN:VEVENT
DTSTART;TZID=UTC:20180115T073000
DTEND;TZID=UTC:20180115T150000
DTSTAMP:20260423T120453
CREATED:20170912T043548Z
LAST-MODIFIED:20170912T043548Z
UID:2046-1516001400-1516028400@sunshinestem.com
SUMMARY:Sunshine MLK Day Game Design Camp w/ SCRATCH - January 15
DESCRIPTION:Game Design with SCRATCH \nScratch has been developed by the Lifelong Learning Group at the MIT Media Lab. It is a platform that promotes mathematical and computational skills as well as creativity\, reasoning and collaborative working. \nScratch can be used to make a number of multimedia applications such as games\, animations\, simulations\, stories\, and art. \nDuring the camp\, students will learn designing and coding their own game with SCRATCH. \n*Participants will learn and practice the design thinking methodology to understand real-life problems and solve them by incorporating the knowledge they have learned \nCamp Location: Sunshine STEM Academy ; 11375 Southbridge Pkwy\, Suite 200\, Alpharetta GA 30022 \n25% discount applies for groups enrolling 3+ students. Please send student names to info@sunshinestem.com\n\n\nDate: January 15 ; 7:30 AM – 3:00 PM\n\n\nGrade Level: 3\,4\,5\,6\n\n\nEnrollment Fee: $75
URL:https://sunshinestem.com/event/sunshine-mlk-day-game-design-camp-w-scratch-january-15
LOCATION:Sunshine STEM Academy Micro School\, 11375 Southbridge Pkwy\, Suite 200\, Alpharetta\, GA\, 30022\, United States
ORGANIZER;CN="Sunshine STEM Academy Micro School":MAILTO:info@sunshinestem.com
END:VEVENT
BEGIN:VEVENT
DTSTART;TZID=UTC:20180103T080000
DTEND;TZID=UTC:20180105T170000
DTSTAMP:20260423T120453
CREATED:20170912T033652Z
LAST-MODIFIED:20170912T033652Z
UID:2044-1514966400-1515171600@sunshinestem.com
SUMMARY:Sunshine Winter Tech Camp (Game Design w/ SCRATCH + Robotics w/ EV3) - January 3-5
DESCRIPTION:Game Design with SCRATCH \nScratch has been developed by the Lifelong Learning Group at the MIT Media Lab. It is a platform that promotes mathematical and computational skills as well as creativity\, reasoning and collaborative working. \nScratch can be used to make a number of multimedia applications such as games\, animations\, simulations\, stories\, and art. \nDuring the camp\, students will learn designing and coding their own game with SCRATCH. \n*Participants will learn and practice the design thinking methodology to understand real-life problems and solve them by incorporating the knowledge they have learned \nRobotics \n– Engineering concepts such as Engineering Design Process\n– Building a basic Robot with LEGO pieces\n– Programming the Robot with EV3 MINDSTORM block programming language\n– Testing the robot on a randomly designed course and modify programming \nCamp Location: Sunshine STEM Academy ; 11375 Southbridge Pkwy\, Suite 200\, Alpharetta GA 30022 \n25% discount applies for groups enrolling 3+ students. Please send student names to info@sunshinestem.com\n\n\nDate: 3 Days ; January 3-5 ; 7:30 AM – 3:00 PM\n\n\nGrade Level: 3\,4\,5\,6\n\n\nEnrollment Fee: $225
URL:https://sunshinestem.com/event/sunshine-winter-tech-camp-game-design-w-scratch-robotics-w-ev3-january-3-5
LOCATION:Sunshine STEM Academy Micro School\, 11375 Southbridge Pkwy\, Suite 200\, Alpharetta\, GA\, 30022\, United States
ORGANIZER;CN="Sunshine STEM Academy Micro School":MAILTO:info@sunshinestem.com
END:VEVENT
BEGIN:VEVENT
DTSTART;TZID=UTC:20171120T073000
DTEND;TZID=UTC:20171122T150000
DTSTAMP:20260423T120453
CREATED:20170912T033414Z
LAST-MODIFIED:20170912T033414Z
UID:2042-1511163000-1511362800@sunshinestem.com
SUMMARY:Sunshine Thanksgiving Tech Camp (Game Design w/ SCRATCH + Robotics w/ EV3) - November 20-22
DESCRIPTION:Game Design with SCRATCH \nScratch has been developed by the Lifelong Learning Group at the MIT Media Lab. It is a platform that promotes mathematical and computational skills as well as creativity\, reasoning and collaborative working. \nScratch can be used to make a number of multimedia applications such as games\, animations\, simulations\, stories\, and art. \nDuring the camp\, students will learn designing and coding their own game with SCRATCH. \n*Participants will learn and practice the design thinking methodology to understand real-life problems and solve them by incorporating the knowledge they have learned \nRobotics \n– Engineering concepts such as Systems Development Life-Cycle\n– Building a basic Robot with LEGO pieces\n– Programming the Robot with EV3 MINDSTORM block programming language\n– Testing the robot on a randomly designed course and modify programming \nCamp Location: Sunshine STEM Academy ; 11375 Southbridge Pkwy\, Suite 200\, Alpharetta GA 30022 \n25% discount applies for groups enrolling 3+ students. Please send student names to info@sunshinestem.com\n\n\nDate: 3 Days ; November 20-22 ; 7:30 AM – 3:00 PM\n\n\nGrade Level: 3\,4\,5\,6\n\n\nEnrollment Fee: $225
URL:https://sunshinestem.com/event/sunshine-thanksgiving-tech-camp-game-design-w-scratch-robotics-w-ev3-november-20-22
LOCATION:Sunshine STEM Academy Micro School\, 11375 Southbridge Pkwy\, Suite 200\, Alpharetta\, GA\, 30022\, United States
ORGANIZER;CN="Sunshine STEM Academy Micro School":MAILTO:info@sunshinestem.com
END:VEVENT
BEGIN:VEVENT
DTSTART;TZID=UTC:20171020T073000
DTEND;TZID=UTC:20171020T150000
DTSTAMP:20260423T120453
CREATED:20170912T033149Z
LAST-MODIFIED:20170912T033149Z
UID:2040-1508484600-1508511600@sunshinestem.com
SUMMARY:Sunshine Game Design (w/ SCRATCH) Day Camp - October 20
DESCRIPTION:Game Design with SCRATCH \nScratch has been developed by the Lifelong Learning Group at the MIT Media Lab. It is a platform that promotes mathematical and computational skills as well as creativity\, reasoning and collaborative working. \nScratch can be used to make a number of multimedia applications such as games\, animations\, simulations\, stories\, and art. \nDuring the camp\, students will learn designing and coding their own game with SCRATCH. \n*Participants will learn and practice the design thinking methodology to understand real-life problems and solve them by incorporating the knowledge they have learned \nCamp Location: Sunshine STEM Academy ; 11375 Southbridge Pkwy\, Suite 200\, Alpharetta GA 30022 \n25% discount applies for groups enrolling 3+ students. Please send student names to info@sunshinestem.com\n\n\nDate: October 20 ; 7:30 AM – 3:00 PM\n\n\nGrade Level: 3\,4\,5\,6\n\n\nEnrollment Fee: $75
URL:https://sunshinestem.com/event/sunshine-game-design-w-scratch-day-camp-october-20
LOCATION:Sunshine STEM Academy Micro School\, 11375 Southbridge Pkwy\, Suite 200\, Alpharetta\, GA\, 30022\, United States
ORGANIZER;CN="Sunshine STEM Academy Micro School":MAILTO:info@sunshinestem.com
END:VEVENT
BEGIN:VEVENT
DTSTART;TZID=UTC:20171006T073000
DTEND;TZID=UTC:20171006T150000
DTSTAMP:20260423T120453
CREATED:20170912T032628Z
LAST-MODIFIED:20170912T032628Z
UID:2038-1507275000-1507302000@sunshinestem.com
SUMMARY:Sunshine Game Design Day Camp (w/ SCRATCH) - October 6
DESCRIPTION:Game Design with SCRATCH \nScratch has been developed by the Lifelong Learning Group at the MIT Media Lab. It is a platform that promotes mathematical and computational skills as well as creativity\, reasoning and collaborative working. \nScratch can be used to make a number of multimedia applications such as games\, animations\, simulations\, stories\, and art. \nDuring the camp\, students will learn designing and coding their own game with SCRATCH. \n*Participants will learn and practice the design thinking methodology to understand real-life problems and solve them by incorporating the knowledge they have learned \nCamp Location: Sunshine STEM Academy ; 11375 Southbridge Pkwy\, Suite 200\, Alpharetta GA 30022 \n25% discount applies for groups enrolling 3+ students. Please send student names to info@sunshinestem.com\n\n\nDate: October 6 ; 7:30 AM – 3:00 PM\n\n\nGrade Level: 3\,4\,5\,6\n\n\nEnrollment Fee: $75
URL:https://sunshinestem.com/event/sunshine-game-design-day-camp-w-scratch-october-6
LOCATION:Sunshine STEM Academy Micro School\, 11375 Southbridge Pkwy\, Suite 200\, Alpharetta\, GA\, 30022\, United States
ORGANIZER;CN="Sunshine STEM Academy Micro School":MAILTO:info@sunshinestem.com
END:VEVENT
BEGIN:VEVENT
DTSTART;TZID=UTC:20170925T073000
DTEND;TZID=UTC:20170929T150000
DTSTAMP:20260423T120453
CREATED:20170912T032138Z
LAST-MODIFIED:20170912T032710Z
UID:2032-1506324600-1506697200@sunshinestem.com
SUMMARY:Sunshine Fall Tech Camp (Game Design w/ SCRATCH + Robotics w/ EV3) - September 25-29
DESCRIPTION:Game Design with SCRATCH \nScratch has been developed by the Lifelong Learning Group at the MIT Media Lab. It is a platform that promotes mathematical and computational skills as well as creativity\, reasoning and collaborative working. \nScratch can be used to make a number of multimedia applications such as games\, animations\, simulations\, stories\, and art. \nDuring the camp\, students will learn designing and coding their own game with SCRATCH. \n*Participants will learn and practice the design thinking methodology to understand real-life problems and solve them by incorporating the knowledge they have learned \nRobotics \n– Engineering concepts such as Systems Development Life-Cycle\n– Building a basic Robot with LEGO pieces\n– Programming the Robot with EV3 MINDSTORM block programming language\n– Testing the robot on a randomly designed course and modify programming \nCamp Location: Sunshine STEM Academy ; 11375 Southbridge Pkwy\, Suite 200\, Alpharetta GA 30022 \n25% discount applies for groups enrolling 3+ students. Please send student names to info@sunshinestem.com\n\n\nDate: 5 Days ; September 25-29; 7:30 AM – 3:00 PM\n\n\nGrade Level: 3\,4\,5\,6\n\n\nEnrollment Fee: $349
URL:https://sunshinestem.com/event/sunshine-fall-tech-camp-game-design-w-scratch-robotics-w-ev3-september-25-29
LOCATION:Sunshine STEM Academy Micro School\, 11375 Southbridge Pkwy\, Suite 200\, Alpharetta\, GA\, 30022\, United States
ORGANIZER;CN="Sunshine STEM Academy Micro School":MAILTO:info@sunshinestem.com
END:VEVENT
BEGIN:VEVENT
DTSTART;TZID=Asia/Karachi:20170918T073000
DTEND;TZID=Asia/Karachi:20170922T150000
DTSTAMP:20260423T120453
CREATED:20170912T032403Z
LAST-MODIFIED:20170912T032746Z
UID:2036-1505719800-1506092400@sunshinestem.com
SUMMARY:Sunshine Fall Tech Camp (Game Design w/ SCRATCH + Robotics w/ EV3) - September 18-22
DESCRIPTION:Game Design with SCRATCH \nScratch has been developed by the Lifelong Learning Group at the MIT Media Lab. It is a platform that promotes mathematical and computational skills as well as creativity\, reasoning and collaborative working. \nScratch can be used to make a number of multimedia applications such as games\, animations\, simulations\, stories\, and art. \nDuring the camp\, students will learn designing and coding their own game with SCRATCH. \n*Participants will learn and practice the design thinking methodology to understand real-life problems and solve them by incorporating the knowledge they have learned \nRobotics \n– Engineering concepts such as Systems Development Life-Cycle\n– Building a basic Robot with LEGO pieces\n– Programming the Robot with EV3 MINDSTORM block programming language\n– Testing the robot on a randomly designed course and modify programming \nCamp Location: Sunshine STEM Academy ; 11375 Southbridge Pkwy\, Suite 200\, Alpharetta GA 30022 \n25% discount applies for groups enrolling 3+ students. Please send student names to info@sunshinestem.com\n\n\nDate: 5 Days ; September 18-22 ; 7:30 AM – 3:00 PM\n\n\nGrade Level: 3\,4\,5\,6\n\n\nEnrollment Fee: $349
URL:https://sunshinestem.com/event/sunshine-fall-tech-camp-game-design-w-scratch-robotics-w-ev3-september-18-22
LOCATION:Sunshine STEM Academy Micro School\, 11375 Southbridge Pkwy\, Suite 200\, Alpharetta\, GA\, 30022\, United States
ORGANIZER;CN="Sunshine STEM Academy Micro School":MAILTO:info@sunshinestem.com
END:VEVENT
END:VCALENDAR